BEGIN:VCALENDAR
VERSION:2.0
PRODID:-//İstanbul Go Players&#039; Association - ECPv6.15.20//NONSGML v1.0//EN
CALSCALE:GREGORIAN
METHOD:PUBLISH
X-WR-CALNAME:İstanbul Go Players&#039; Association
X-ORIGINAL-URL:https://www.istanbulgo.org
X-WR-CALDESC:Events for İstanbul Go Players&#039; Association
REFRESH-INTERVAL;VALUE=DURATION:PT1H
X-Robots-Tag:noindex
X-PUBLISHED-TTL:PT1H
BEGIN:VTIMEZONE
TZID:Europe/Moscow
BEGIN:STANDARD
TZOFFSETFROM:+0300
TZOFFSETTO:+0300
TZNAME:MSK
DTSTART:20240101T000000
END:STANDARD
END:VTIMEZONE
BEGIN:VEVENT
DTSTART;TZID=Europe/Moscow:20250920T080000
DTEND;TZID=Europe/Moscow:20250921T170000
DTSTAMP:20260422T031839
CREATED:20250304T110744Z
LAST-MODIFIED:20250912T224744Z
UID:8159-1758355200-1758474000@www.istanbulgo.org
SUMMARY:24th International Istanbul Go Tournament
DESCRIPTION:Details about the 24th edition of the International Istanbul Go Open are emerging everyday. Latest news is the founder of Yunguseng Dojang\, In-Seong Hwang will be visiting the Tournament\, visit and lecture schedule will be made available shortly. Check the event’s main page at 24th International Istanbul Go Tournament for newer details\, news and registration.
URL:https://www.istanbulgo.org/en/event/24th-international-istanbul-go-tournament/
CATEGORIES:Istanbul Go Tournament,Tournament
END:VEVENT
END:VCALENDAR