BEGIN:VCALENDAR
VERSION:2.0
PRODID:-//İstanbul GO Oyuncuları Derneği - ECPv6.15.20//NONSGML v1.0//EN
CALSCALE:GREGORIAN
METHOD:PUBLISH
X-ORIGINAL-URL:https://www.istanbulgo.org
X-WR-CALDESC:İstanbul GO Oyuncuları Derneği için etkinlikler
REFRESH-INTERVAL;VALUE=DURATION:PT1H
X-Robots-Tag:noindex
X-PUBLISHED-TTL:PT1H
BEGIN:VTIMEZONE
TZID:Europe/Moscow
BEGIN:STANDARD
TZOFFSETFROM:+0300
TZOFFSETTO:+0300
TZNAME:MSK
DTSTART:20230101T000000
END:STANDARD
END:VTIMEZONE
BEGIN:VEVENT
DTSTART;TZID=Europe/Moscow:20240413T150000
DTEND;TZID=Europe/Moscow:20240413T183000
DTSTAMP:20260423T004834
CREATED:20240412T002037Z
LAST-MODIFIED:20240412T002313Z
UID:7631-1713020400-1713033000@www.istanbulgo.org
SUMMARY:İstanbul Şehir Go Turnuvaları 2024/07 - Anadolu Yakası
DESCRIPTION:
URL:https://www.istanbulgo.org/etkinlik/istanbul-sehir-go-turnuvalari-2024-07-anadolu-yakasi/
LOCATION:Naboo Kafe\, zuhal sk. kadikoy\, istanbul\, Turkey
CATEGORIES:City Tournament,Şehir Turnuvası,Tournament,Turnuva
END:VEVENT
BEGIN:VEVENT
DTSTART;TZID=Europe/Moscow:20240421T150000
DTEND;TZID=Europe/Moscow:20240421T183000
DTSTAMP:20260423T004834
CREATED:20240412T004212Z
LAST-MODIFIED:20240412T004212Z
UID:7633-1713711600-1713724200@www.istanbulgo.org
SUMMARY:İstanbul Şehir Go Turnuvaları 2024/08 - Avrupa Yakası
DESCRIPTION:
URL:https://www.istanbulgo.org/etkinlik/istanbul-sehir-go-turnuvalari-2024-08-avrupa-yakasi/
LOCATION:Naboo Kafe\, zuhal sk. kadikoy\, istanbul\, Turkey
CATEGORIES:City Tournament,Şehir Turnuvası,Tournament,Turnuva
END:VEVENT
END:VCALENDAR