BEGIN:VCALENDAR
VERSION:2.0
PRODID:-//İstanbul GO Oyuncuları Derneği - ECPv6.15.20//NONSGML v1.0//EN
CALSCALE:GREGORIAN
METHOD:PUBLISH
X-ORIGINAL-URL:https://www.istanbulgo.org
X-WR-CALDESC:İstanbul GO Oyuncuları Derneği için etkinlikler
REFRESH-INTERVAL;VALUE=DURATION:PT1H
X-Robots-Tag:noindex
X-PUBLISHED-TTL:PT1H
BEGIN:VTIMEZONE
TZID:Europe/Moscow
BEGIN:STANDARD
TZOFFSETFROM:+0300
TZOFFSETTO:+0300
TZNAME:MSK
DTSTART:20240101T000000
END:STANDARD
END:VTIMEZONE
BEGIN:VEVENT
DTSTART;TZID=Europe/Moscow:20250913T150000
DTEND;TZID=Europe/Moscow:20250913T190000
DTSTAMP:20260421T142327
CREATED:20250906T181814Z
LAST-MODIFIED:20250906T181926Z
UID:8663-1757775600-1757790000@www.istanbulgo.org
SUMMARY:İstanbul Şehir Go Turnuvaları 2025/17 – Anadolu Yakası
DESCRIPTION:
URL:https://www.istanbulgo.org/etkinlik/istanbul-sehir-go-turnuvalari-2025-17-anadolu-yakasi/
LOCATION:Naboo Kafe\, zuhal sk. kadikoy\, istanbul\, Turkey
CATEGORIES:Şehir Turnuvası,Turnuva
END:VEVENT
BEGIN:VEVENT
DTSTART;TZID=Europe/Moscow:20250920T080000
DTEND;TZID=Europe/Moscow:20250921T170000
DTSTAMP:20260421T142327
CREATED:20250304T110744Z
LAST-MODIFIED:20250912T224640Z
UID:8157-1758355200-1758474000@www.istanbulgo.org
SUMMARY:24. Uluslararası İstanbul Go Turnuvası
DESCRIPTION:Bu yıl 24. defa düzenlenecek İstanbul Go Turnuvası detayları kesinleşiyor. En son haber Yunguseng Dojang kurucusu In-Seong Hwang’ın da turnuvayı ziyaret edeceği oldu\, ders ve ziyaret programı kesinleştiğinde eklenecek. Her gün eklenen yeni bilgiler\, kayıt ve diğer detaylar için 24. Uluslararası İstanbul Go Turnuvası özel sayfasını ziyaret ediniz.
URL:https://www.istanbulgo.org/etkinlik/24-uluslararasi-istanbul-go-turnuvasi/
CATEGORIES:İstanbul Go Turnuvası,Turnuva
END:VEVENT
BEGIN:VEVENT
DTSTART;TZID=Europe/Moscow:20250928T150000
DTEND;TZID=Europe/Moscow:20250928T190000
DTSTAMP:20260421T142327
CREATED:20250906T181158Z
LAST-MODIFIED:20250906T181158Z
UID:8661-1759071600-1759086000@www.istanbulgo.org
SUMMARY:İstanbul Şehir Go Turnuvaları 2025/18 – Avrupa Yakası
DESCRIPTION:
URL:https://www.istanbulgo.org/etkinlik/istanbul-sehir-go-turnuvalari-2025-18-avrupa-yakasi/
LOCATION:Teayatro Kafe\, Sinanpaşa Mah.\, İlhan Sk.\, 18\, Beşiktaş\, İstanbul\, 34353\, Turkey
CATEGORIES:Şehir Turnuvası,Turnuva
END:VEVENT
END:VCALENDAR