BEGIN:VCALENDAR
VERSION:2.0
PRODID:-//İstanbul GO Oyuncuları Derneği - ECPv6.15.20//NONSGML v1.0//EN
CALSCALE:GREGORIAN
METHOD:PUBLISH
X-ORIGINAL-URL:https://www.istanbulgo.org
X-WR-CALDESC:İstanbul GO Oyuncuları Derneği için etkinlikler
REFRESH-INTERVAL;VALUE=DURATION:PT1H
X-Robots-Tag:noindex
X-PUBLISHED-TTL:PT1H
BEGIN:VTIMEZONE
TZID:Europe/Moscow
BEGIN:STANDARD
TZOFFSETFROM:+0300
TZOFFSETTO:+0300
TZNAME:MSK
DTSTART:20250101T000000
END:STANDARD
END:VTIMEZONE
BEGIN:VEVENT
DTSTART;TZID=Europe/Moscow:20260110T150000
DTEND;TZID=Europe/Moscow:20260110T190000
DTSTAMP:20260421T063529
CREATED:20260107T150335Z
LAST-MODIFIED:20260107T150619Z
UID:8821-1768057200-1768071600@www.istanbulgo.org
SUMMARY:İstanbul Şehir Go Turnuvaları 2026/01 – Anadolu Yakası
DESCRIPTION:
URL:https://www.istanbulgo.org/etkinlik/istanbul-sehir-go-turnuvalari-2025-17-anadolu-yakasi-2-2-2/
LOCATION:Naboo Kafe\, zuhal sk. kadikoy\, istanbul\, Turkey
CATEGORIES:Şehir Turnuvası,Turnuva
END:VEVENT
BEGIN:VEVENT
DTSTART;TZID=Europe/Moscow:20260118T150000
DTEND;TZID=Europe/Moscow:20260118T190000
DTSTAMP:20260421T063529
CREATED:20260107T150256Z
LAST-MODIFIED:20260107T150256Z
UID:8819-1768748400-1768762800@www.istanbulgo.org
SUMMARY:İstanbul Şehir Go Turnuvaları 2026/02 – Avrupa Yakası
DESCRIPTION:
URL:https://www.istanbulgo.org/etkinlik/istanbul-sehir-go-turnuvalari-2025-18-avrupa-yakasi-2-2-2/
LOCATION:Teayatro Kafe\, Sinanpaşa Mah.\, İlhan Sk.\, 18\, Beşiktaş\, İstanbul\, 34353\, Turkey
CATEGORIES:Şehir Turnuvası,Turnuva
END:VEVENT
END:VCALENDAR