BEGIN:VCALENDAR
VERSION:2.0
PRODID:-//İstanbul GO Oyuncuları Derneği - ECPv6.15.20//NONSGML v1.0//EN
CALSCALE:GREGORIAN
METHOD:PUBLISH
X-ORIGINAL-URL:https://www.istanbulgo.org
X-WR-CALDESC:İstanbul GO Oyuncuları Derneği için etkinlikler
REFRESH-INTERVAL;VALUE=DURATION:PT1H
X-Robots-Tag:noindex
X-PUBLISHED-TTL:PT1H
BEGIN:VTIMEZONE
TZID:Europe/Moscow
BEGIN:STANDARD
TZOFFSETFROM:+0300
TZOFFSETTO:+0300
TZNAME:MSK
DTSTART:20230101T000000
END:STANDARD
END:VTIMEZONE
BEGIN:VEVENT
DTSTART;TZID=Europe/Moscow:20241110T150000
DTEND;TZID=Europe/Moscow:20241110T190000
DTSTAMP:20260422T074505
CREATED:20241110T034456Z
LAST-MODIFIED:20241110T035023Z
UID:8077-1731250800-1731265200@www.istanbulgo.org
SUMMARY:İstanbul Şehir Go Turnuvaları 2024/21 – Avrupa Yakası
DESCRIPTION:
URL:https://www.istanbulgo.org/etkinlik/istanbul-sehir-go-turnuvalari-2024-21-avrupa-yakasi/
LOCATION:Teayatro Kafe\, Sinanpaşa Mah.\, İlhan Sk.\, 18\, Beşiktaş\, İstanbul\, 34353\, Turkey
CATEGORIES:Şehir Turnuvası,Turnuva
END:VEVENT
BEGIN:VEVENT
DTSTART;TZID=Europe/Moscow:20241116T150000
DTEND;TZID=Europe/Moscow:20241116T190000
DTSTAMP:20260422T074505
CREATED:20241110T034614Z
LAST-MODIFIED:20241110T035038Z
UID:8076-1731769200-1731783600@www.istanbulgo.org
SUMMARY:İstanbul Şehir Go Turnuvaları 2024/22 – Anadolu Yakası
DESCRIPTION:
URL:https://www.istanbulgo.org/etkinlik/istanbul-sehir-go-turnuvalari-2024-22-anadolu-yakasi/
LOCATION:Naboo Kafe\, zuhal sk. kadikoy\, istanbul\, Turkey
CATEGORIES:Şehir Turnuvası,Turnuva
END:VEVENT
END:VCALENDAR