BEGIN:VCALENDAR
VERSION:2.0
PRODID:-//İstanbul GO Oyuncuları Derneği - ECPv6.15.20//NONSGML v1.0//EN
CALSCALE:GREGORIAN
METHOD:PUBLISH
X-ORIGINAL-URL:https://www.istanbulgo.org
X-WR-CALDESC:İstanbul GO Oyuncuları Derneği için etkinlikler
REFRESH-INTERVAL;VALUE=DURATION:PT1H
X-Robots-Tag:noindex
X-PUBLISHED-TTL:PT1H
BEGIN:VTIMEZONE
TZID:Europe/Moscow
BEGIN:STANDARD
TZOFFSETFROM:+0300
TZOFFSETTO:+0300
TZNAME:MSK
DTSTART:20240101T000000
END:STANDARD
END:VTIMEZONE
BEGIN:VEVENT
DTSTART;TZID=Europe/Moscow:20250111T150000
DTEND;TZID=Europe/Moscow:20250111T190000
DTSTAMP:20260422T041802
CREATED:20250120T115337Z
LAST-MODIFIED:20250120T115337Z
UID:8095-1736607600-1736622000@www.istanbulgo.org
SUMMARY:İstanbul Şehir Go Turnuvaları 2025/01 – Anadolu Yakası
DESCRIPTION:
URL:https://www.istanbulgo.org/etkinlik/istanbul-sehir-go-turnuvalari-2025-01-anadolu-yakasi/
LOCATION:Naboo Kafe\, zuhal sk. kadikoy\, istanbul\, Turkey
CATEGORIES:Şehir Turnuvası,Turnuva
END:VEVENT
BEGIN:VEVENT
DTSTART;TZID=Europe/Moscow:20250118T080000
DTEND;TZID=Europe/Moscow:20250118T190000
DTSTAMP:20260422T041802
CREATED:20250120T120228Z
LAST-MODIFIED:20250120T120228Z
UID:8100-1737187200-1737226800@www.istanbulgo.org
SUMMARY:2024 İstanbul Şehir Playoff Turnuvası
DESCRIPTION:
URL:https://www.istanbulgo.org/etkinlik/2024-istanbul-sehir-playoff-turnuvasi/
LOCATION:Animo Akademi\, Moda Mah. Şevki Bey Sok. 41\, Kadıköy\, İstanbul\, 34710\, Turkey
CATEGORIES:Şehir Turnuvası,Turnuva
END:VEVENT
BEGIN:VEVENT
DTSTART;TZID=Europe/Moscow:20250126T150000
DTEND;TZID=Europe/Moscow:20250126T190000
DTSTAMP:20260422T041802
CREATED:20250120T115538Z
LAST-MODIFIED:20250120T115617Z
UID:8093-1737903600-1737918000@www.istanbulgo.org
SUMMARY:İstanbul Şehir Go Turnuvaları 2025/02 – Avrupa Yakası
DESCRIPTION:
URL:https://www.istanbulgo.org/etkinlik/istanbul-sehir-go-turnuvalari-2025-02-avrupa-yakasi/
LOCATION:Teayatro Kafe\, Sinanpaşa Mah.\, İlhan Sk.\, 18\, Beşiktaş\, İstanbul\, 34353\, Turkey
CATEGORIES:Şehir Turnuvası,Turnuva
END:VEVENT
END:VCALENDAR