BEGIN:VCALENDAR
VERSION:2.0
PRODID:-//İstanbul GO Oyuncuları Derneği - ECPv6.15.20//NONSGML v1.0//EN
CALSCALE:GREGORIAN
METHOD:PUBLISH
X-WR-CALNAME:İstanbul GO Oyuncuları Derneği
X-ORIGINAL-URL:https://www.istanbulgo.org
X-WR-CALDESC:İstanbul GO Oyuncuları Derneği için etkinlikler
REFRESH-INTERVAL;VALUE=DURATION:PT1H
X-Robots-Tag:noindex
X-PUBLISHED-TTL:PT1H
BEGIN:VTIMEZONE
TZID:Europe/Moscow
BEGIN:STANDARD
TZOFFSETFROM:+0300
TZOFFSETTO:+0300
TZNAME:MSK
DTSTART:20230101T000000
END:STANDARD
END:VTIMEZONE
BEGIN:VEVENT
DTSTART;TZID=Europe/Moscow:20240120T150000
DTEND;TZID=Europe/Moscow:20240120T183000
DTSTAMP:20260423T030212
CREATED:20240119T162305Z
LAST-MODIFIED:20240201T131014Z
UID:7336-1705762800-1705775400@www.istanbulgo.org
SUMMARY:İstanbul Şehir Go Turnuvaları 2024/01 - Anadolu Yakası
DESCRIPTION:
URL:https://www.istanbulgo.org/etkinlik/istanbul-sehir-go-turnuvalari-2024-01-anadolu-yakasi/
LOCATION:Naboo Kafe\, zuhal sk. kadikoy\, istanbul\, Turkey
CATEGORIES:City Tournament,Şehir Turnuvası,Tournament,Turnuva
END:VEVENT
BEGIN:VEVENT
DTSTART;TZID=Europe/Moscow:20240121T150000
DTEND;TZID=Europe/Moscow:20240121T183000
DTSTAMP:20260423T030212
CREATED:20240119T162611Z
LAST-MODIFIED:20240201T131029Z
UID:7338-1705849200-1705861800@www.istanbulgo.org
SUMMARY:İstanbul Şehir Go Turnuvaları 2024/02 - Avrupa Yakası
DESCRIPTION:
URL:https://www.istanbulgo.org/etkinlik/istanbul-sehir-go-turnuvalari-2024-02-avrupa-yakasi/
LOCATION:Teayatro Kafe\, Sinanpaşa Mah.\, İlhan Sk.\, 18\, Beşiktaş\, İstanbul\, 34353\, Turkey
CATEGORIES:City Tournament,Şehir Turnuvası,Tournament,Turnuva
END:VEVENT
END:VCALENDAR