BEGIN:VCALENDAR
VERSION:2.0
PRODID:-//İstanbul GO Oyuncuları Derneği - ECPv6.15.20//NONSGML v1.0//EN
CALSCALE:GREGORIAN
METHOD:PUBLISH
X-WR-CALNAME:İstanbul GO Oyuncuları Derneği
X-ORIGINAL-URL:https://www.istanbulgo.org
X-WR-CALDESC:İstanbul GO Oyuncuları Derneği için etkinlikler
REFRESH-INTERVAL;VALUE=DURATION:PT1H
X-Robots-Tag:noindex
X-PUBLISHED-TTL:PT1H
BEGIN:VTIMEZONE
TZID:Europe/Moscow
BEGIN:STANDARD
TZOFFSETFROM:+0300
TZOFFSETTO:+0300
TZNAME:MSK
DTSTART:20230101T000000
END:STANDARD
END:VTIMEZONE
BEGIN:VEVENT
DTSTART;TZID=Europe/Moscow:20240609T150000
DTEND;TZID=Europe/Moscow:20240609T190000
DTSTAMP:20260422T160745
CREATED:20240609T005215Z
LAST-MODIFIED:20240702T125744Z
UID:7656-1717945200-1717959600@www.istanbulgo.org
SUMMARY:İstanbul Şehir Go Turnuvaları 2024/11 – Avrupa Yakası
DESCRIPTION:
URL:https://www.istanbulgo.org/etkinlik/istanbul-sehir-go-turnuvalari-2024-11-avrupa-yakasi/
LOCATION:Teayatro Kafe\, Sinanpaşa Mah.\, İlhan Sk.\, 18\, Beşiktaş\, İstanbul\, 34353\, Turkey
CATEGORIES:City Tournament,Şehir Turnuvası,Tournament,Turnuva
END:VEVENT
BEGIN:VEVENT
DTSTART;TZID=Europe/Moscow:20240615T150000
DTEND;TZID=Europe/Moscow:20240615T190000
DTSTAMP:20260422T160745
CREATED:20240609T005341Z
LAST-MODIFIED:20240609T005341Z
UID:7658-1718463600-1718478000@www.istanbulgo.org
SUMMARY:İstanbul Şehir Go Turnuvaları 2024/12 – Anadolu Yakası
DESCRIPTION:
URL:https://www.istanbulgo.org/etkinlik/istanbul-sehir-go-turnuvalari-2024-12-anadolu-yakasi/
CATEGORIES:City Tournament,Şehir Turnuvası,Tournament,Turnuva
END:VEVENT
END:VCALENDAR