BEGIN:VCALENDAR
VERSION:2.0
PRODID:-//İstanbul GO Oyuncuları Derneği - ECPv6.15.20//NONSGML v1.0//EN
CALSCALE:GREGORIAN
METHOD:PUBLISH
X-ORIGINAL-URL:https://www.istanbulgo.org
X-WR-CALDESC:İstanbul GO Oyuncuları Derneği için etkinlikler
REFRESH-INTERVAL;VALUE=DURATION:PT1H
X-Robots-Tag:noindex
X-PUBLISHED-TTL:PT1H
BEGIN:VTIMEZONE
TZID:Europe/Moscow
BEGIN:STANDARD
TZOFFSETFROM:+0300
TZOFFSETTO:+0300
TZNAME:MSK
DTSTART:20230101T000000
END:STANDARD
END:VTIMEZONE
BEGIN:VEVENT
DTSTART;TZID=Europe/Moscow:20240714T150000
DTEND;TZID=Europe/Moscow:20240714T170000
DTSTAMP:20260422T142620
CREATED:20240702T131808Z
LAST-MODIFIED:20241110T034914Z
UID:7872-1720969200-1720976400@www.istanbulgo.org
SUMMARY:İstanbul Şehir Go Turnuvaları 2024/13 – Avrupa Yakası
DESCRIPTION:
URL:https://www.istanbulgo.org/etkinlik/istanbul-sehir-go-turnuvalari-2024-13-avrupa-yakasi/
LOCATION:Teayatro Kafe\, Sinanpaşa Mah.\, İlhan Sk.\, 18\, Beşiktaş\, İstanbul\, 34353\, Turkey
CATEGORIES:Şehir Turnuvası,Turnuva
END:VEVENT
BEGIN:VEVENT
DTSTART;TZID=Europe/Moscow:20240727T150000
DTEND;TZID=Europe/Moscow:20240727T170000
DTSTAMP:20260422T142620
CREATED:20240702T131945Z
LAST-MODIFIED:20241110T034924Z
UID:7874-1722092400-1722099600@www.istanbulgo.org
SUMMARY:İstanbul Şehir Go Turnuvaları 2024/14 – Anadolu Yakası
DESCRIPTION:
URL:https://www.istanbulgo.org/etkinlik/istanbul-sehir-go-turnuvalari-2024-14-anadolu-yakasi/
LOCATION:Naboo Kafe\, zuhal sk. kadikoy\, istanbul\, Turkey
CATEGORIES:Şehir Turnuvası,Turnuva
END:VEVENT
END:VCALENDAR