BEGIN:VCALENDAR
VERSION:2.0
PRODID:-//İstanbul GO Oyuncuları Derneği - ECPv6.15.20//NONSGML v1.0//EN
CALSCALE:GREGORIAN
METHOD:PUBLISH
X-WR-CALNAME:İstanbul GO Oyuncuları Derneği
X-ORIGINAL-URL:https://www.istanbulgo.org
X-WR-CALDESC:İstanbul GO Oyuncuları Derneği için etkinlikler
REFRESH-INTERVAL;VALUE=DURATION:PT1H
X-Robots-Tag:noindex
X-PUBLISHED-TTL:PT1H
BEGIN:VTIMEZONE
TZID:Europe/Moscow
BEGIN:STANDARD
TZOFFSETFROM:+0300
TZOFFSETTO:+0300
TZNAME:MSK
DTSTART:20250101T000000
END:STANDARD
END:VTIMEZONE
BEGIN:VEVENT
DTSTART;TZID=Europe/Moscow:20260208T150000
DTEND;TZID=Europe/Moscow:20260208T190000
DTSTAMP:20260421T035729
CREATED:20260201T194051Z
LAST-MODIFIED:20260201T194051Z
UID:8827-1770562800-1770577200@www.istanbulgo.org
SUMMARY:İstanbul Şehir Go Turnuvaları 2026/03 – Avrupa Yakası
DESCRIPTION:
URL:https://www.istanbulgo.org/etkinlik/istanbul-sehir-go-turnuvalari-2025-18-avrupa-yakasi-2-2-2-2/
LOCATION:Teayatro Kafe\, Sinanpaşa Mah.\, İlhan Sk.\, 18\, Beşiktaş\, İstanbul\, 34353\, Turkey
CATEGORIES:Şehir Turnuvası,Turnuva
END:VEVENT
BEGIN:VEVENT
DTSTART;TZID=Europe/Moscow:20260221T150000
DTEND;TZID=Europe/Moscow:20260221T190000
DTSTAMP:20260421T035729
CREATED:20260201T194122Z
LAST-MODIFIED:20260303T205856Z
UID:8829-1771686000-1771700400@www.istanbulgo.org
SUMMARY:İstanbul Şehir Go Turnuvaları 2026/04 – Anadolu Yakası
DESCRIPTION:
URL:https://www.istanbulgo.org/etkinlik/istanbul-sehir-go-turnuvalari-2026-04-anadolu-yakasi/
LOCATION:Naboo Kafe\, zuhal sk. kadikoy\, istanbul\, Turkey
CATEGORIES:Şehir Turnuvası,Turnuva
END:VEVENT
END:VCALENDAR