BEGIN:VCALENDAR
VERSION:2.0
PRODID:-//İstanbul GO Oyuncuları Derneği - ECPv6.15.20//NONSGML v1.0//EN
CALSCALE:GREGORIAN
METHOD:PUBLISH
X-WR-CALNAME:İstanbul GO Oyuncuları Derneği
X-ORIGINAL-URL:https://www.istanbulgo.org
X-WR-CALDESC:İstanbul GO Oyuncuları Derneği için etkinlikler
REFRESH-INTERVAL;VALUE=DURATION:PT1H
X-Robots-Tag:noindex
X-PUBLISHED-TTL:PT1H
BEGIN:VTIMEZONE
TZID:Europe/Moscow
BEGIN:STANDARD
TZOFFSETFROM:+0300
TZOFFSETTO:+0300
TZNAME:MSK
DTSTART:20230101T000000
END:STANDARD
END:VTIMEZONE
BEGIN:VEVENT
DTSTART;TZID=Europe/Moscow:20240511T150000
DTEND;TZID=Europe/Moscow:20240511T183000
DTSTAMP:20260422T191553
CREATED:20240511T070547Z
LAST-MODIFIED:20240511T070547Z
UID:7642-1715439600-1715452200@www.istanbulgo.org
SUMMARY:İstanbul Şehir Go Turnuvaları 2024/09 - Anadolu Yakası
DESCRIPTION:
URL:https://www.istanbulgo.org/etkinlik/istanbul-sehir-go-turnuvalari-2024-09-anadolu-yakasi/
LOCATION:Naboo Kafe\, zuhal sk. kadikoy\, istanbul\, Turkey
CATEGORIES:City Tournament,Şehir Turnuvası,Tournament,Turnuva
END:VEVENT
BEGIN:VEVENT
DTSTART;TZID=Europe/Moscow:20240526T150000
DTEND;TZID=Europe/Moscow:20240526T183000
DTSTAMP:20260422T191553
CREATED:20240511T070732Z
LAST-MODIFIED:20240609T004746Z
UID:7644-1716735600-1716748200@www.istanbulgo.org
SUMMARY:İstanbul Şehir Go Turnuvaları 2024/10 - Avrupa Yakası
DESCRIPTION:
URL:https://www.istanbulgo.org/etkinlik/istanbul-sehir-go-turnuvalari-2024-10-avrupa-yakasi/
LOCATION:Teayatro Kafe\, Sinanpaşa Mah.\, İlhan Sk.\, 18\, Beşiktaş\, İstanbul\, 34353\, Turkey
CATEGORIES:City Tournament,Şehir Turnuvası,Tournament,Turnuva
END:VEVENT
END:VCALENDAR