BEGIN:VCALENDAR
VERSION:2.0
PRODID:-//İstanbul GO Oyuncuları Derneği - ECPv6.15.20//NONSGML v1.0//EN
CALSCALE:GREGORIAN
METHOD:PUBLISH
X-ORIGINAL-URL:https://www.istanbulgo.org
X-WR-CALDESC:İstanbul GO Oyuncuları Derneği için etkinlikler
REFRESH-INTERVAL;VALUE=DURATION:PT1H
X-Robots-Tag:noindex
X-PUBLISHED-TTL:PT1H
BEGIN:VTIMEZONE
TZID:Europe/Moscow
BEGIN:STANDARD
TZOFFSETFROM:+0300
TZOFFSETTO:+0300
TZNAME:MSK
DTSTART:20240101T000000
END:STANDARD
END:VTIMEZONE
BEGIN:VEVENT
DTSTART;TZID=Europe/Moscow:20250706T150000
DTEND;TZID=Europe/Moscow:20250706T190000
DTSTAMP:20260421T191646
CREATED:20250701T151208Z
LAST-MODIFIED:20250701T151208Z
UID:8512-1751814000-1751828400@www.istanbulgo.org
SUMMARY:İstanbul Şehir Go Turnuvaları 2025/13 – Avrupa Yakası
DESCRIPTION:
URL:https://www.istanbulgo.org/etkinlik/istanbul-sehir-go-turnuvalari-2025-11-avrupa-yakasi-2/
LOCATION:Teayatro Kafe\, Sinanpaşa Mah.\, İlhan Sk.\, 18\, Beşiktaş\, İstanbul\, 34353\, Turkey
CATEGORIES:Şehir Turnuvası,Turnuva
END:VEVENT
BEGIN:VEVENT
DTSTART;TZID=Europe/Moscow:20250726T150000
DTEND;TZID=Europe/Moscow:20250726T190000
DTSTAMP:20260421T191646
CREATED:20250701T151134Z
LAST-MODIFIED:20250723T152423Z
UID:8510-1753542000-1753556400@www.istanbulgo.org
SUMMARY:İstanbul Şehir Go Turnuvaları 2025/14 – Anadolu Yakası
DESCRIPTION:
URL:https://www.istanbulgo.org/etkinlik/istanbul-sehir-go-turnuvalari-2025-12-anadolu-yakasi-2/
LOCATION:Naboo Kafe\, zuhal sk. kadikoy\, istanbul\, Turkey
CATEGORIES:Şehir Turnuvası,Turnuva
END:VEVENT
END:VCALENDAR